BEGIN:VCALENDAR
VERSION:2.0
PRODID:-//Vancouver Premier College - ECPv6.6.4//NONSGML v1.0//EN
CALSCALE:GREGORIAN
METHOD:PUBLISH
X-WR-CALNAME:Vancouver Premier College
X-ORIGINAL-URL:https://vpcollege.com
X-WR-CALDESC:Events for Vancouver Premier College
REFRESH-INTERVAL;VALUE=DURATION:PT1H
X-Robots-Tag:noindex
X-PUBLISHED-TTL:PT1H
BEGIN:VTIMEZONE
TZID:America/Vancouver
BEGIN:DAYLIGHT
TZOFFSETFROM:-0800
TZOFFSETTO:-0700
TZNAME:PDT
DTSTART:20240310T100000
END:DAYLIGHT
BEGIN:STANDARD
TZOFFSETFROM:-0700
TZOFFSETTO:-0800
TZNAME:PST
DTSTART:20241103T090000
END:STANDARD
END:VTIMEZONE
BEGIN:VEVENT
DTSTART;TZID=America/Vancouver:20240828T030000
DTEND;TZID=America/Vancouver:20240828T170000
DTSTAMP:20260422T161545
CREATED:20240819T230023Z
LAST-MODIFIED:20240819T230647Z
UID:14924-1724814000-1724864400@vpcollege.com
SUMMARY:2024 Graduation Photo Day
DESCRIPTION:We are excited to invite you to our upcoming Graduation Photo Day\, a special opportunity to celebrate your achievements with memorable photos in your gown and with your diploma! \nWhat to Expect: \n\nProfessional Photography: A professional photographer will be on-site to capture your milestone moment.\nGown and Diploma: You’ll have access to a gown and your diploma for then photos.\nPhoto Booth: Capture fun memories with friends and family at our photo booth.\nFaculty and Staff: Members of our faculty and staff will be present to celebrate with you.\n\nFeel free to invite your friends and family to join you for pictures! Please note that while this event is focused on capturing your special moment\, there will not be a formal reception. \nSpecial Invitation: We are also extending this invitation to students who have graduated within the last two years. We would love to see you again and help you create some lasting memories. \nWe look forward to celebrating with you and capturing this important moment in your journey. \nSend email to natalieo@vpcollege.com for the reservation.
URL:https://vpcollege.com/event/2024-graduation-photo-day/
LOCATION:VPC Richmond Campus\, 5300 No. 3 Rd #103\, Richmond\, British Columbia\, V6X 2X9\, Canada
END:VEVENT
END:VCALENDAR