BEGIN:VCALENDAR
VERSION:2.0
PRODID:-//Vancouver Premier College - ECPv6.6.4//NONSGML v1.0//EN
CALSCALE:GREGORIAN
METHOD:PUBLISH
X-ORIGINAL-URL:https://vpcollege.com
X-WR-CALDESC:Events for Vancouver Premier College
REFRESH-INTERVAL;VALUE=DURATION:PT1H
X-Robots-Tag:noindex
X-PUBLISHED-TTL:PT1H
BEGIN:VTIMEZONE
TZID:America/Vancouver
BEGIN:DAYLIGHT
TZOFFSETFROM:-0800
TZOFFSETTO:-0700
TZNAME:PDT
DTSTART:20240310T100000
END:DAYLIGHT
BEGIN:STANDARD
TZOFFSETFROM:-0700
TZOFFSETTO:-0800
TZNAME:PST
DTSTART:20241103T090000
END:STANDARD
END:VTIMEZONE
BEGIN:VEVENT
DTSTART;TZID=America/Vancouver:20240825T120000
DTEND;TZID=America/Vancouver:20240825T150000
DTSTAMP:20260424T060027
CREATED:20240819T224359Z
LAST-MODIFIED:20240819T230911Z
UID:14921-1724587200-1724598000@vpcollege.com
SUMMARY:2024 VPC Alumni Summer BBQ
DESCRIPTION:The VPC Alumni is excited to announce the long-awaited return of our Annual BBQ Event after a two-year hiatus! \nWhether you are the life of the party or prefer quieter conversations\, you are sure to find your own slice of summer joy at this BBQ party. \nWe warmly invite all current students and alumni to join us for this annual celebration. \nPlease note that due to limited spots\, registration will be on a first-come\, first-served basis. \nIf you have any dietary restrictions or allergies\, kindly inform us during the registration process.
URL:https://vpcollege.com/event/2024-vpc-alumni-summer-bbq/
END:VEVENT
END:VCALENDAR